Package: TSAR Version: 1.2.0 Command: /home/biocbuild/bbs-3.19-bioc/R/bin/R CMD build --keep-empty-dirs --no-resave-data TSAR StartedAt: 2024-10-16 21:15:20 -0400 (Wed, 16 Oct 2024) EndedAt: 2024-10-16 21:17:21 -0400 (Wed, 16 Oct 2024) EllapsedTime: 121.2 seconds RetCode: 0 Status: OK PackageFile: TSAR_1.2.0.tar.gz PackageFileSize: 3.85 MiB