Package: TSAR Version: 1.2.0 Command: /Library/Frameworks/R.framework/Resources/bin/R CMD check --install=check:TSAR.install-out.txt --library=/Library/Frameworks/R.framework/Resources/library --no-vignettes --timings TSAR_1.2.0.tar.gz StartedAt: 2024-06-09 23:41:15 -0400 (Sun, 09 Jun 2024) EndedAt: 2024-06-09 23:43:59 -0400 (Sun, 09 Jun 2024) EllapsedTime: 164.5 seconds RetCode: 0 Status: OK CheckDir: TSAR.Rcheck Warnings: 0