Package: TSAR Version: 1.2.0 Command: rm -rf TSAR.buildbin-libdir && mkdir TSAR.buildbin-libdir && /Users/biocbuild/BBS/utils/build-universal.sh TSAR_1.2.0.tar.gz /Library/Frameworks/R.framework/Resources/bin/R TSAR.buildbin-libdir StartedAt: 2024-06-10 00:44:39 -0400 (Mon, 10 Jun 2024) EndedAt: 2024-06-10 00:44:57 -0400 (Mon, 10 Jun 2024) EllapsedTime: 17.8 seconds RetCode: 0 Status: OK PackageFile: TSAR_1.2.0.tgz PackageFileSize: 3.979 MiB