Package: TSAR Version: 1.2.0 Command: rm -rf TSAR.buildbin-libdir && mkdir TSAR.buildbin-libdir && /Users/biocbuild/BBS/utils/build-universal.sh TSAR_1.2.0.tar.gz /Library/Frameworks/R.framework/Resources/bin/R TSAR.buildbin-libdir StartedAt: 2024-10-15 20:43:38 -0400 (Tue, 15 Oct 2024) EndedAt: 2024-10-15 20:43:55 -0400 (Tue, 15 Oct 2024) EllapsedTime: 17.1 seconds RetCode: 0 Status: OK PackageFile: TSAR_1.2.0.tgz PackageFileSize: 3.98 MiB