Package: TSAR Version: 1.2.0 Maintainer: Xinlin Gao MaintainerEmail: candygao2015 at outlook.com git_url: https://git.bioconductor.org/packages/TSAR git_branch: RELEASE_3_19 git_last_commit: 3b72ba8 git_last_commit_date: 2024-04-30 11:51:46 -0400 (Tue, 30 Apr 2024)