Package: TRONCO Version: 2.36.0 Command: /home/biocbuild/bbs-3.19-bioc/R/bin/R CMD build --keep-empty-dirs --no-resave-data TRONCO StartedAt: 2024-10-16 21:15:13 -0400 (Wed, 16 Oct 2024) EndedAt: 2024-10-16 21:16:12 -0400 (Wed, 16 Oct 2024) EllapsedTime: 59.1 seconds RetCode: 0 Status: OK PackageFile: TRONCO_2.36.0.tar.gz PackageFileSize: 3.9 MiB