Package: TRONCO Version: 2.36.0 Command: rm -rf TRONCO.buildbin-libdir && mkdir TRONCO.buildbin-libdir && /Users/biocbuild/BBS/utils/build-universal.sh TRONCO_2.36.0.tar.gz /Library/Frameworks/R.framework/Resources/bin/R TRONCO.buildbin-libdir StartedAt: 2024-06-10 00:44:37 -0400 (Mon, 10 Jun 2024) EndedAt: 2024-06-10 00:44:57 -0400 (Mon, 10 Jun 2024) EllapsedTime: 20.1 seconds RetCode: 0 Status: OK PackageFile: TRONCO_2.36.0.tgz PackageFileSize: 4.849 MiB