Package: TRONCO Version: 2.36.0 Command: /home/biocbuild/R/R-beta-2024-04-15_r86425/bin/R CMD build --keep-empty-dirs --no-resave-data TRONCO StartedAt: 2024-05-09 04:13:38 -0000 (Thu, 09 May 2024) EndedAt: 2024-05-09 04:15:08 -0000 (Thu, 09 May 2024) EllapsedTime: 90.1 seconds RetCode: 0 Status: OK PackageFile: TRONCO_2.36.0.tar.gz PackageFileSize: 3.376 MiB