Package: TRONCO Version: 2.36.0 Maintainer: Luca De Sano MaintainerEmail: luca.desano at gmail.com git_url: https://git.bioconductor.org/packages/TRONCO git_branch: RELEASE_3_19 git_last_commit: c0f0a32 git_last_commit_date: 2024-04-30 10:41:10 -0400 (Tue, 30 Apr 2024)