Package: TRESS Version: 1.10.0 Command: /home/biocbuild/bbs-3.19-bioc/R/bin/R CMD build --keep-empty-dirs --no-resave-data TRESS StartedAt: 2024-10-16 21:14:23 -0400 (Wed, 16 Oct 2024) EndedAt: 2024-10-16 21:14:24 -0400 (Wed, 16 Oct 2024) EllapsedTime: 1.0 seconds RetCode: 0 Status: OK PackageFile: TRESS_1.10.0.tar.gz PackageFileSize: 483.8 KiB