Package: TRESS Version: 1.10.0 Command: /home/biocbuild/R/R-beta-2024-04-15_r86425/bin/R CMD build --keep-empty-dirs --no-resave-data TRESS StartedAt: 2024-05-09 04:12:22 -0000 (Thu, 09 May 2024) EndedAt: 2024-05-09 04:12:23 -0000 (Thu, 09 May 2024) EllapsedTime: 1.0 seconds RetCode: 0 Status: OK PackageFile: TRESS_1.10.0.tar.gz PackageFileSize: 483.8 KiB