Package: TRESS Version: 1.10.0 Command: /Library/Frameworks/R.framework/Resources/bin/R CMD INSTALL TRESS StartedAt: 2024-10-16 16:33:12 -0400 (Wed, 16 Oct 2024) EndedAt: 2024-10-16 16:33:54 -0400 (Wed, 16 Oct 2024) EllapsedTime: 41.8 seconds RetCode: 0 Status: OK