Package: TREG Version: 1.8.0 Command: F:\biocbuild\bbs-3.19-bioc\R\bin\R.exe CMD check --no-multiarch --install=check:TREG.install-out.txt --library=F:\biocbuild\bbs-3.19-bioc\R\library --no-vignettes --timings TREG_1.8.0.tar.gz StartedAt: 2024-06-27 07:08:15 -0400 (Thu, 27 Jun 2024) EndedAt: 2024-06-27 07:11:15 -0400 (Thu, 27 Jun 2024) EllapsedTime: 180.0 seconds RetCode: 0 Status: OK CheckDir: TREG.Rcheck Warnings: 0