Package: TREG Version: 1.8.0 Command: chmod a+r TREG -R && F:\biocbuild\bbs-3.19-bioc\R\bin\R.exe CMD build --keep-empty-dirs --no-resave-data TREG StartedAt: 2024-06-26 22:27:27 -0400 (Wed, 26 Jun 2024) EndedAt: 2024-06-26 22:29:50 -0400 (Wed, 26 Jun 2024) EllapsedTime: 142.7 seconds RetCode: 0 Status: OK PackageFile: TREG_1.8.0.tar.gz PackageFileSize: 1.627 MiB