Package: TREG Version: 1.8.0 Command: rm -rf TREG.buildbin-libdir && mkdir TREG.buildbin-libdir && F:\biocbuild\bbs-3.19-bioc\R\bin\R.exe CMD INSTALL --build --library=TREG.buildbin-libdir TREG_1.8.0.tar.gz StartedAt: 2024-06-27 09:04:13 -0400 (Thu, 27 Jun 2024) EndedAt: 2024-06-27 09:04:41 -0400 (Thu, 27 Jun 2024) EllapsedTime: 28.1 seconds RetCode: 0 Status: OK PackageFile: TREG_1.8.0.zip PackageFileSize: 1.648 MiB