Package: TREG Version: 1.8.0 Command: /Library/Frameworks/R.framework/Resources/bin/R CMD check --install=check:TREG.install-out.txt --library=/Library/Frameworks/R.framework/Resources/library --no-vignettes --timings TREG_1.8.0.tar.gz StartedAt: 2024-10-17 14:39:55 -0400 (Thu, 17 Oct 2024) EndedAt: 2024-10-17 14:46:26 -0400 (Thu, 17 Oct 2024) EllapsedTime: 391.2 seconds RetCode: 0 Status: OK CheckDir: TREG.Rcheck Warnings: 0