Package: TREG Version: 1.8.0 Command: /Library/Frameworks/R.framework/Resources/bin/R CMD check --install=check:TREG.install-out.txt --library=/Library/Frameworks/R.framework/Resources/library --no-vignettes --timings TREG_1.8.0.tar.gz StartedAt: 2024-06-09 23:38:40 -0400 (Sun, 09 Jun 2024) EndedAt: 2024-06-09 23:41:55 -0400 (Sun, 09 Jun 2024) EllapsedTime: 195.2 seconds RetCode: 0 Status: OK CheckDir: TREG.Rcheck Warnings: 0