Package: TREG Version: 1.8.0 Command: /Library/Frameworks/R.framework/Resources/bin/R CMD build --keep-empty-dirs --no-resave-data TREG StartedAt: 2024-06-09 18:28:33 -0400 (Sun, 09 Jun 2024) EndedAt: 2024-06-09 18:30:22 -0400 (Sun, 09 Jun 2024) EllapsedTime: 109.3 seconds RetCode: 0 Status: OK PackageFile: TREG_1.8.0.tar.gz PackageFileSize: 2.605 MiB