Package: TREG Version: 1.8.0 Command: rm -rf TREG.buildbin-libdir && mkdir TREG.buildbin-libdir && /Users/biocbuild/BBS/utils/build-universal.sh TREG_1.8.0.tar.gz /Library/Frameworks/R.framework/Resources/bin/R TREG.buildbin-libdir StartedAt: 2024-06-10 00:44:24 -0400 (Mon, 10 Jun 2024) EndedAt: 2024-06-10 00:44:54 -0400 (Mon, 10 Jun 2024) EllapsedTime: 30.3 seconds RetCode: 0 Status: OK PackageFile: TREG_1.8.0.tgz PackageFileSize: 2.623 MiB