Package: TREG Version: 1.8.0 Command: /home/biocbuild/R/R-beta-2024-04-15_r86425/bin/R CMD build --keep-empty-dirs --no-resave-data TREG StartedAt: 2024-05-09 04:12:18 -0000 (Thu, 09 May 2024) EndedAt: 2024-05-09 04:15:03 -0000 (Thu, 09 May 2024) EllapsedTime: 165.2 seconds RetCode: 0 Status: OK PackageFile: TREG_1.8.0.tar.gz PackageFileSize: 1.647 MiB