Package: TREG Version: 1.8.0 Command: /Library/Frameworks/R.framework/Resources/bin/R CMD INSTALL TREG StartedAt: 2024-06-09 15:19:14 -0400 (Sun, 09 Jun 2024) EndedAt: 2024-06-09 15:19:42 -0400 (Sun, 09 Jun 2024) EllapsedTime: 28.0 seconds RetCode: 0 Status: OK