Package: TREG Version: 1.8.0 Command: /Library/Frameworks/R.framework/Resources/bin/R CMD INSTALL TREG StartedAt: 2024-10-16 15:57:23 -0400 (Wed, 16 Oct 2024) EndedAt: 2024-10-16 15:57:47 -0400 (Wed, 16 Oct 2024) EllapsedTime: 24.6 seconds RetCode: 0 Status: OK