Package: TPP2D Version: 1.20.0 Command: E:\biocbuild\bbs-3.19-bioc\R\bin\R.exe CMD INSTALL TPP2D StartedAt: 2024-10-16 17:15:46 -0400 (Wed, 16 Oct 2024) EndedAt: 2024-10-16 17:16:08 -0400 (Wed, 16 Oct 2024) EllapsedTime: 21.5 seconds RetCode: 0 Status: OK