Package: TPP2D Version: 1.20.0 Command: chmod a+r TPP2D -R && F:\biocbuild\bbs-3.19-bioc\R\bin\R.exe CMD build --keep-empty-dirs --no-resave-data TPP2D StartedAt: 2024-06-26 22:24:44 -0400 (Wed, 26 Jun 2024) EndedAt: 2024-06-26 22:25:32 -0400 (Wed, 26 Jun 2024) EllapsedTime: 47.4 seconds RetCode: 0 Status: OK PackageFile: TPP2D_1.20.0.tar.gz PackageFileSize: 2.136 MiB