Package: TPP2D Version: 1.20.0 Command: /Library/Frameworks/R.framework/Resources/bin/R CMD check --install=check:TPP2D.install-out.txt --library=/Library/Frameworks/R.framework/Resources/library --no-vignettes --timings TPP2D_1.20.0.tar.gz StartedAt: 2024-10-17 14:30:53 -0400 (Thu, 17 Oct 2024) EndedAt: 2024-10-17 14:35:46 -0400 (Thu, 17 Oct 2024) EllapsedTime: 293.4 seconds RetCode: 0 Status: OK CheckDir: TPP2D.Rcheck Warnings: 0