Package: TPP2D Version: 1.20.0 Command: rm -rf TPP2D.buildbin-libdir && mkdir TPP2D.buildbin-libdir && /Users/biocbuild/BBS/utils/build-universal.sh TPP2D_1.20.0.tar.gz /Library/Frameworks/R.framework/Resources/bin/R TPP2D.buildbin-libdir StartedAt: 2024-10-17 17:22:28 -0400 (Thu, 17 Oct 2024) EndedAt: 2024-10-17 17:22:49 -0400 (Thu, 17 Oct 2024) EllapsedTime: 20.7 seconds RetCode: 0 Status: OK PackageFile: TPP2D_1.20.0.tgz PackageFileSize: 1.883 MiB