Package: TPP2D Version: 1.20.0 Command: /home/biocbuild/R/R-beta-2024-04-15_r86425/bin/R CMD check --install=check:TPP2D.install-out.txt --library=/home/biocbuild/R/R-beta-2024-04-15_r86425/site-library --no-vignettes --timings TPP2D_1.20.0.tar.gz StartedAt: 2024-05-08 12:47:41 -0000 (Wed, 08 May 2024) EndedAt: 2024-05-08 12:50:01 -0000 (Wed, 08 May 2024) EllapsedTime: 139.3 seconds RetCode: 0 Status: OK CheckDir: TPP2D.Rcheck Warnings: 0