Package: TPP2D Version: 1.20.0 Command: /Library/Frameworks/R.framework/Resources/bin/R CMD INSTALL TPP2D StartedAt: 2024-10-16 18:40:22 -0400 (Wed, 16 Oct 2024) EndedAt: 2024-10-16 18:40:31 -0400 (Wed, 16 Oct 2024) EllapsedTime: 9.2 seconds RetCode: 0 Status: OK