Package: TPP Version: 3.32.0 Command: chmod a+r TPP -R && E:\biocbuild\bbs-3.19-bioc\R\bin\R.exe CMD build --keep-empty-dirs --no-resave-data TPP StartedAt: 2024-10-16 22:22:50 -0400 (Wed, 16 Oct 2024) EndedAt: 2024-10-16 22:25:21 -0400 (Wed, 16 Oct 2024) EllapsedTime: 150.2 seconds RetCode: 0 Status: OK PackageFile: TPP_3.32.0.tar.gz PackageFileSize: 8.438 MiB