Package: TPP Version: 3.32.0 Command: /Library/Frameworks/R.framework/Resources/bin/R CMD check --install=check:TPP.install-out.txt --library=/Library/Frameworks/R.framework/Resources/library --no-vignettes --timings TPP_3.32.0.tar.gz StartedAt: 2024-05-27 00:50:58 -0400 (Mon, 27 May 2024) EndedAt: 2024-05-27 01:00:12 -0400 (Mon, 27 May 2024) EllapsedTime: 554.5 seconds RetCode: 0 Status: OK CheckDir: TPP.Rcheck Warnings: 0