Package: TPP Version: 3.32.0 Command: rm -rf TPP.buildbin-libdir && mkdir TPP.buildbin-libdir && /Users/biocbuild/BBS/utils/build-universal.sh TPP_3.32.0.tar.gz /Library/Frameworks/R.framework/Resources/bin/R TPP.buildbin-libdir StartedAt: 2024-05-27 02:06:07 -0400 (Mon, 27 May 2024) EndedAt: 2024-05-27 02:06:33 -0400 (Mon, 27 May 2024) EllapsedTime: 25.5 seconds RetCode: 0 Status: OK PackageFile: TPP_3.32.0.tgz PackageFileSize: 8.861 MiB