Package: TPP Version: 3.32.0 Command: /Library/Frameworks/R.framework/Resources/bin/R CMD build --keep-empty-dirs --no-resave-data TPP StartedAt: 2024-10-17 10:48:59 -0400 (Thu, 17 Oct 2024) EndedAt: 2024-10-17 10:50:57 -0400 (Thu, 17 Oct 2024) EllapsedTime: 118.7 seconds RetCode: 0 Status: OK PackageFile: TPP_3.32.0.tar.gz PackageFileSize: 8.43 MiB