Package: TPP Version: 3.32.0 Command: rm -rf TPP.buildbin-libdir && mkdir TPP.buildbin-libdir && /Users/biocbuild/BBS/utils/build-universal.sh TPP_3.32.0.tar.gz /Library/Frameworks/R.framework/Resources/bin/R TPP.buildbin-libdir StartedAt: 2024-10-15 20:39:58 -0400 (Tue, 15 Oct 2024) EndedAt: 2024-10-15 20:40:20 -0400 (Tue, 15 Oct 2024) EllapsedTime: 21.6 seconds RetCode: 0 Status: OK PackageFile: TPP_3.32.0.tgz PackageFileSize: 8.859 MiB