Package: TOP Version: 1.4.0 Command: rm -rf TOP.buildbin-libdir && mkdir TOP.buildbin-libdir && E:\biocbuild\bbs-3.19-bioc\R\bin\R.exe CMD INSTALL --build --library=TOP.buildbin-libdir TOP_1.4.0.tar.gz StartedAt: 2024-10-17 08:47:40 -0400 (Thu, 17 Oct 2024) EndedAt: 2024-10-17 08:48:24 -0400 (Thu, 17 Oct 2024) EllapsedTime: 44.0 seconds RetCode: 0 Status: OK PackageFile: TOP_1.4.0.zip PackageFileSize: 400.3 KiB