Package: TOP Version: 1.4.0 Command: chmod a+r TOP -R && F:\biocbuild\bbs-3.19-bioc\R\bin\R.exe CMD build --keep-empty-dirs --no-resave-data TOP StartedAt: 2024-06-26 22:24:19 -0400 (Wed, 26 Jun 2024) EndedAt: 2024-06-26 22:28:05 -0400 (Wed, 26 Jun 2024) EllapsedTime: 225.8 seconds RetCode: 0 Status: OK PackageFile: TOP_1.4.0.tar.gz PackageFileSize: 343.8 KiB