Package: TOP Version: 1.4.0 Command: /home/biocbuild/bbs-3.19-bioc/R/bin/R CMD check --install=check:TOP.install-out.txt --library=/home/biocbuild/bbs-3.19-bioc/R/site-library --timings TOP_1.4.0.tar.gz StartedAt: 2024-10-17 05:57:33 -0400 (Thu, 17 Oct 2024) EndedAt: 2024-10-17 06:01:38 -0400 (Thu, 17 Oct 2024) EllapsedTime: 244.5 seconds RetCode: 0 Status: OK CheckDir: TOP.Rcheck Warnings: 0