Package: TOP Version: 1.4.0 Command: /Library/Frameworks/R.framework/Resources/bin/R CMD check --install=check:TOP.install-out.txt --library=/Library/Frameworks/R.framework/Resources/library --no-vignettes --timings TOP_1.4.0.tar.gz StartedAt: 2024-10-17 14:28:55 -0400 (Thu, 17 Oct 2024) EndedAt: 2024-10-17 14:37:27 -0400 (Thu, 17 Oct 2024) EllapsedTime: 511.8 seconds RetCode: 0 Status: OK CheckDir: TOP.Rcheck Warnings: 0