Package: TOP Version: 1.4.0 Command: /Library/Frameworks/R.framework/Resources/bin/R CMD check --install=check:TOP.install-out.txt --library=/Library/Frameworks/R.framework/Resources/library --no-vignettes --timings TOP_1.4.0.tar.gz StartedAt: 2024-06-09 23:35:36 -0400 (Sun, 09 Jun 2024) EndedAt: 2024-06-09 23:39:24 -0400 (Sun, 09 Jun 2024) EllapsedTime: 228.6 seconds RetCode: 0 Status: OK CheckDir: TOP.Rcheck Warnings: 0