Package: TOP Version: 1.4.0 Command: rm -rf TOP.buildbin-libdir && mkdir TOP.buildbin-libdir && /Users/biocbuild/BBS/utils/build-universal.sh TOP_1.4.0.tar.gz /Library/Frameworks/R.framework/Resources/bin/R TOP.buildbin-libdir StartedAt: 2024-06-10 00:44:01 -0400 (Mon, 10 Jun 2024) EndedAt: 2024-06-10 00:44:45 -0400 (Mon, 10 Jun 2024) EllapsedTime: 44.4 seconds RetCode: 0 Status: OK PackageFile: TOP_1.4.0.tgz PackageFileSize: 539.8 KiB