Package: TOP Version: 1.4.0 Command: /Library/Frameworks/R.framework/Resources/bin/R CMD build --keep-empty-dirs --no-resave-data TOP StartedAt: 2024-06-10 06:01:54 -0400 (Mon, 10 Jun 2024) EndedAt: 2024-06-10 06:03:49 -0400 (Mon, 10 Jun 2024) EllapsedTime: 114.9 seconds RetCode: 0 Status: OK PackageFile: TOP_1.4.0.tar.gz PackageFileSize: 484.4 KiB