Package: TOP Version: 1.4.0 Command: rm -rf TOP.buildbin-libdir && mkdir TOP.buildbin-libdir && /Users/biocbuild/BBS/utils/build-universal.sh TOP_1.4.0.tar.gz /Library/Frameworks/R.framework/Resources/bin/R TOP.buildbin-libdir StartedAt: 2024-06-11 13:34:22 -0400 (Tue, 11 Jun 2024) EndedAt: 2024-06-11 13:35:20 -0400 (Tue, 11 Jun 2024) EllapsedTime: 57.7 seconds RetCode: 0 Status: OK PackageFile: TOP_1.4.0.tgz PackageFileSize: 538.3 KiB