Package: TOP Version: 1.4.0 Command: /Library/Frameworks/R.framework/Resources/bin/R CMD check --install=check:TOP.install-out.txt --library=/Library/Frameworks/R.framework/Resources/library --no-vignettes --timings TOP_1.4.0.tar.gz StartedAt: 2024-10-18 15:24:19 -0400 (Fri, 18 Oct 2024) EndedAt: 2024-10-18 15:28:39 -0400 (Fri, 18 Oct 2024) EllapsedTime: 261.0 seconds RetCode: 0 Status: OK CheckDir: TOP.Rcheck Warnings: 0