Package: TOP Version: 1.4.0 Command: /Library/Frameworks/R.framework/Resources/bin/R CMD build --keep-empty-dirs --no-resave-data TOP StartedAt: 2024-10-17 10:46:43 -0400 (Thu, 17 Oct 2024) EndedAt: 2024-10-17 10:48:26 -0400 (Thu, 17 Oct 2024) EllapsedTime: 102.7 seconds RetCode: 0 Status: OK PackageFile: TOP_1.4.0.tar.gz PackageFileSize: 486.6 KiB