Package: TOAST Version: 1.18.0 Command: /Library/Frameworks/R.framework/Resources/bin/R CMD check --install=check:TOAST.install-out.txt --library=/Library/Frameworks/R.framework/Resources/library --no-vignettes --timings TOAST_1.18.0.tar.gz StartedAt: 2024-06-11 08:24:10 -0400 (Tue, 11 Jun 2024) EndedAt: 2024-06-11 08:31:02 -0400 (Tue, 11 Jun 2024) EllapsedTime: 412.4 seconds RetCode: 0 Status: OK CheckDir: TOAST.Rcheck Warnings: 0