Package: TOAST Version: 1.18.0 Command: /Library/Frameworks/R.framework/Resources/bin/R CMD build --keep-empty-dirs --no-resave-data TOAST StartedAt: 2024-06-10 06:01:34 -0400 (Mon, 10 Jun 2024) EndedAt: 2024-06-10 06:05:17 -0400 (Mon, 10 Jun 2024) EllapsedTime: 223.0 seconds RetCode: 0 Status: OK PackageFile: TOAST_1.18.0.tar.gz PackageFileSize: 3.625 MiB