Package: TOAST Version: 1.18.0 Command: /Library/Frameworks/R.framework/Resources/bin/R CMD INSTALL TOAST StartedAt: 2024-10-16 16:08:44 -0400 (Wed, 16 Oct 2024) EndedAt: 2024-10-16 16:09:16 -0400 (Wed, 16 Oct 2024) EllapsedTime: 31.8 seconds RetCode: 0 Status: OK