Package: TOAST Version: 1.18.0 Command: /Library/Frameworks/R.framework/Resources/bin/R CMD check --install=check:TOAST.install-out.txt --library=/Library/Frameworks/R.framework/Resources/library --no-vignettes --timings TOAST_1.18.0.tar.gz StartedAt: 2024-10-18 15:21:01 -0400 (Fri, 18 Oct 2024) EndedAt: 2024-10-18 15:26:30 -0400 (Fri, 18 Oct 2024) EllapsedTime: 329.9 seconds RetCode: 0 Status: OK CheckDir: TOAST.Rcheck Warnings: 0