Package: TOAST Version: 1.18.0 Command: rm -rf TOAST.buildbin-libdir && mkdir TOAST.buildbin-libdir && /Users/biocbuild/BBS/utils/build-universal.sh TOAST_1.18.0.tar.gz /Library/Frameworks/R.framework/Resources/bin/R TOAST.buildbin-libdir StartedAt: 2024-10-15 20:39:09 -0400 (Tue, 15 Oct 2024) EndedAt: 2024-10-15 20:39:44 -0400 (Tue, 15 Oct 2024) EllapsedTime: 35.0 seconds RetCode: 0 Status: OK PackageFile: TOAST_1.18.0.tgz PackageFileSize: 3.765 MiB