Package: TNBC.CMS Version: 1.19.0 Command: F:\biocbuild\bbs-3.19-bioc\R\bin\R.exe CMD check --no-multiarch --install=check:TNBC.CMS.install-out.txt --library=F:\biocbuild\bbs-3.19-bioc\R\library --no-vignettes --timings TNBC.CMS_1.19.0.tar.gz StartedAt: 2023-12-14 09:28:37 -0500 (Thu, 14 Dec 2023) EndedAt: 2023-12-14 09:33:16 -0500 (Thu, 14 Dec 2023) EllapsedTime: 279.5 seconds RetCode: 0 Status: OK CheckDir: TNBC.CMS.Rcheck Warnings: 0