Package: TNBC.CMS Version: 1.20.0 Command: chmod a+r TNBC.CMS -R && F:\biocbuild\bbs-3.19-bioc\R\bin\R.exe CMD build --keep-empty-dirs --no-resave-data TNBC.CMS StartedAt: 2024-06-26 22:23:58 -0400 (Wed, 26 Jun 2024) EndedAt: 2024-06-26 22:25:02 -0400 (Wed, 26 Jun 2024) EllapsedTime: 63.8 seconds RetCode: 1 Status: ERROR PackageFile: None PackageFileSize: NA